BEGIN:VCALENDAR
VERSION:2.0
CALSCALE:GREGORIAN
BEGIN:VEVENT
DTSTAMP:20260421T013131
DTSTART:20260425T180000
DTEND:20260425T210000
SUMMARY:Taste Of Wine Spectator
DESCRIPTION:Event Info: https://www.localwineevents.com/view/event/taste-of-wine-spectator/991695
LOCATION:Calcareous Vineyard -- 3430 Peachy Canyon Road Paso Robles, CA 93446
STATUS:CONFIRMED
SEQUENCE:0
TRANSP:OPAQUE
END:VEVENT
END:VCALENDAR
