BEGIN:VCALENDAR
VERSION:2.0
CALSCALE:GREGORIAN
BEGIN:VEVENT
DTSTAMP:20260420T120246
DTSTART:20260518T180000
DTEND:20260518T193000
SUMMARY:Exploring Wine Series: Spring Sippers
DESCRIPTION:Event Info: https://www.localwineevents.com/view/event/exploring-wine-series-spring-sippers/991686
LOCATION:The Ruby Tap (Tosa) -- 1341 North Wauwatosa Avenue Wauwatosa, WI 53213
STATUS:CONFIRMED
SEQUENCE:0
TRANSP:OPAQUE
END:VEVENT
END:VCALENDAR
