BEGIN:VCALENDAR
VERSION:2.0
CALSCALE:GREGORIAN
BEGIN:VEVENT
DTSTAMP:20260420T120241
DTSTART:20260511T180000
DTEND:20260511T193000
SUMMARY:Tulips And Tastings With Aromatic Acres
DESCRIPTION:Event Info: https://www.localwineevents.com/view/event/tulips-and-tastings-with-aromatic-acres/991680
LOCATION:The Ruby Tap (Tosa) -- 1341 North Wauwatosa Avenue Wauwatosa, WI 53213
STATUS:CONFIRMED
SEQUENCE:0
TRANSP:OPAQUE
END:VEVENT
END:VCALENDAR
