BEGIN:VCALENDAR
VERSION:2.0
CALSCALE:GREGORIAN
BEGIN:VEVENT
DTSTAMP:20260419T120035
DTSTART:20260331T183000
DTEND:20260331T210000
SUMMARY:A Food And Wine Immersion - Chef Nicholas Saxon  Wine Educator Jill Kummer
DESCRIPTION:Event Info: https://www.localwineevents.com/view/event/a-food-and-wine-immersion---chef-nicholas-saxon-wine-educator-jill-kummer/991669
LOCATION:Woodville House at Gally Hill Station -- 562 Main Street, Suite 2 Harmony, PA 16037
STATUS:CONFIRMED
SEQUENCE:0
TRANSP:OPAQUE
END:VEVENT
END:VCALENDAR
