BEGIN:VCALENDAR
VERSION:2.0
CALSCALE:GREGORIAN
BEGIN:VEVENT
DTSTAMP:20260420T174815
DTSTART:20260606T130000
DTEND:20260606T180000
SUMMARY:Wine In The Park
DESCRIPTION:Event Info: https://www.localwineevents.com/view/event/wine-in-the-park/991299
LOCATION:Morris J. Dimmick Park -- 570 Durham Street Hellertown, Pa. 18055
STATUS:CONFIRMED
SEQUENCE:0
TRANSP:OPAQUE
END:VEVENT
END:VCALENDAR
