BEGIN:VCALENDAR
VERSION:2.0
CALSCALE:GREGORIAN
BEGIN:VEVENT
DTSTAMP:20260420T045458
DTSTART:20260320T180000
DTEND:20260320T190000
SUMMARY:Merlot: Let Me Change Your Mind
DESCRIPTION:Event Info: https://www.localwineevents.com/view/event/merlot-let-me-change-your-mind/991182
LOCATION:Planet Wine -- 2004 Mount Vernon Avenue Alexandria, VA 22301
STATUS:CONFIRMED
SEQUENCE:0
TRANSP:OPAQUE
END:VEVENT
END:VCALENDAR
