BEGIN:VCALENDAR
VERSION:2.0
CALSCALE:GREGORIAN
BEGIN:VEVENT
DTSTAMP:20260420T045312
DTSTART:20260319T180000
DTEND:20260319T200000
SUMMARY:Make Handmade Empanadas From Scratch! With Nativo Spices
DESCRIPTION:Event Info: https://www.localwineevents.com/view/event/make-handmade-empanadas-from-scratch-with-nativo-spices/991065
LOCATION:Shop Made In DC - Union Market -- 325 Morse Street Northeast Washington, DC 20002
STATUS:CONFIRMED
SEQUENCE:0
TRANSP:OPAQUE
END:VEVENT
END:VCALENDAR
