BEGIN:VCALENDAR
VERSION:2.0
CALSCALE:GREGORIAN
BEGIN:VEVENT
DTSTAMP:20260420T045630
DTSTART:20260319T183000
DTEND:20260319T203000
SUMMARY:Filibuster Whiskey Dinner - Copperwood Tavern
DESCRIPTION:Event Info: https://www.localwineevents.com/view/event/filibuster-whiskey-dinner---copperwood-tavern/990999
LOCATION:Copperwood Tavern -- 4021 Campbell Avenue Arlington, VA 22206
STATUS:CONFIRMED
SEQUENCE:0
TRANSP:OPAQUE
END:VEVENT
END:VCALENDAR
