BEGIN:VCALENDAR
VERSION:2.0
CALSCALE:GREGORIAN
BEGIN:VEVENT
DTSTAMP:20260420T175736
DTSTART:20260509T120000
DTEND:20260509T160000
SUMMARY:French Garden Market
DESCRIPTION:Event Info: https://www.localwineevents.com/view/event/french-garden-market/990961
LOCATION:Dry Creek Vineyard -- 3770 Lambert Bridge Rd Healdsburg, California 95448
STATUS:CONFIRMED
SEQUENCE:0
TRANSP:OPAQUE
END:VEVENT
END:VCALENDAR
