BEGIN:VCALENDAR
VERSION:2.0
CALSCALE:GREGORIAN
BEGIN:VEVENT
DTSTAMP:20260421T045059
DTSTART:20260306T170000
DTEND:20260306T070000
SUMMARY:Free Wine Tasting At Eataly: The Pure Expressions Of Tenuta Luisa In Friuli
DESCRIPTION:Event Info: https://www.localwineevents.com/view/event/free-wine-tasting-at-eataly-the-pure-expressions-of-tenuta-luisa-in-friuli/990956
LOCATION:Eataly Vino at Eataly King of Prussia -- 160 N Gulph Rd, EATALY King Of Prussia, Pennsylvania 19406
STATUS:CONFIRMED
SEQUENCE:0
TRANSP:OPAQUE
END:VEVENT
END:VCALENDAR
