BEGIN:VCALENDAR
VERSION:2.0
CALSCALE:GREGORIAN
BEGIN:VEVENT
DTSTAMP:20260421T094727
DTSTART:20260424T110000
DTEND:20260424T140000
SUMMARY:Kaya
DESCRIPTION:Event Info: https://www.localwineevents.com/view/event/kaya/990764
LOCATION:Total Wine  More | 551 South Stratford Road nul -- 551 South Stratford Road null Winston-Salem, North Carolina 27103
STATUS:CONFIRMED
SEQUENCE:0
TRANSP:OPAQUE
END:VEVENT
END:VCALENDAR
