BEGIN:VCALENDAR
VERSION:2.0
CALSCALE:GREGORIAN
BEGIN:VEVENT
DTSTAMP:20260421T183100
DTSTART:20260625T180000
DTEND:20260625T193000
SUMMARY:Bourbon - America\'s Native Spirit
DESCRIPTION:Event Info: https://www.localwineevents.com/view/event/bourbon---americas-native-spirit/990705
LOCATION:Total Wine  More | 8700 Preston Rd Ste113 nul -- 8700 Preston Rd Ste113 null Plano, Texas 75024
STATUS:CONFIRMED
SEQUENCE:0
TRANSP:OPAQUE
END:VEVENT
END:VCALENDAR
