BEGIN:VCALENDAR
VERSION:2.0
CALSCALE:GREGORIAN
BEGIN:VEVENT
DTSTAMP:20260421T184328
DTSTART:20260619T183000
DTEND:20260619T200000
SUMMARY:Gems Of Scotland With Ian Macleod Distillers
DESCRIPTION:Event Info: https://www.localwineevents.com/view/event/gems-of-scotland-with-ian-macleod-distillers/990666
LOCATION:Total Wine  More | 721 N Central EXPY Ste200 nul -- 721 N Central EXPY Ste200 null Plano, Texas 75075
STATUS:CONFIRMED
SEQUENCE:0
TRANSP:OPAQUE
END:VEVENT
END:VCALENDAR
