BEGIN:VCALENDAR
VERSION:2.0
CALSCALE:GREGORIAN
BEGIN:VEVENT
DTSTAMP:20260420T045310
DTSTART:20260316T183000
DTEND:20260316T213000
SUMMARY:Manincor Wine Dinner
DESCRIPTION:Event Info: https://www.localwineevents.com/view/event/manincor-wine-dinner/990646
LOCATION:Ama -- 885 New Jersey Avenue Southeast Washington, DC 20003
STATUS:CONFIRMED
SEQUENCE:0
TRANSP:OPAQUE
END:VEVENT
END:VCALENDAR
