BEGIN:VCALENDAR
VERSION:2.0
CALSCALE:GREGORIAN
BEGIN:VEVENT
DTSTAMP:20260420T045458
DTSTART:20260317T190000
DTEND:20260317T220000
SUMMARY:3/17- Rockville, MD- Passport To Chile
DESCRIPTION:Event Info: https://www.localwineevents.com/view/event/317--rockville-md--passport-to-chile/990538
LOCATION:Coopers Hawk Winery  Restaurant -- 1403 Research Boulevard Rockville, MD 20850
STATUS:CONFIRMED
SEQUENCE:0
TRANSP:OPAQUE
END:VEVENT
END:VCALENDAR
