BEGIN:VCALENDAR
VERSION:2.0
CALSCALE:GREGORIAN
BEGIN:VEVENT
DTSTAMP:20260421T013056
DTSTART:20260510T180000
DTEND:20260510T193000
SUMMARY:Harmonious Pairings
DESCRIPTION:Event Info: https://www.localwineevents.com/view/event/harmonious-pairings/990505
LOCATION:Parrish Family Vineyard -- 3590 Adelaida Road Paso Robles, CA 93446
STATUS:CONFIRMED
SEQUENCE:0
TRANSP:OPAQUE
END:VEVENT
END:VCALENDAR
