BEGIN:VCALENDAR
VERSION:2.0
CALSCALE:GREGORIAN
BEGIN:VEVENT
DTSTAMP:20260420T045303
DTSTART:20260514T183000
DTEND:20260514T193000
SUMMARY:Le Sud Wine Tasting - Ros In May
DESCRIPTION:Event Info: https://www.localwineevents.com/view/event/le-sud-wine-tasting---ros-in-may/990502
LOCATION:Le Sud -- 2301 W Roscoe Street Chicago, IL 60618
STATUS:CONFIRMED
SEQUENCE:0
TRANSP:OPAQUE
END:VEVENT
END:VCALENDAR
