BEGIN:VCALENDAR
VERSION:2.0
CALSCALE:GREGORIAN
BEGIN:VEVENT
DTSTAMP:20260421T080906
DTSTART:20260502T120000
DTEND:20260502T170000
SUMMARY:Budbreak Wine + Craft Beer Festival
DESCRIPTION:Event Info: https://www.localwineevents.com/view/event/budbreak-wine-craft-beer-festival/990429
LOCATION:Main Street, Mount Airy, NC -- 400 Block, Main Street Mount Airy, NC 27030
STATUS:CONFIRMED
SEQUENCE:0
TRANSP:OPAQUE
END:VEVENT
END:VCALENDAR
