BEGIN:VCALENDAR
VERSION:2.0
CALSCALE:GREGORIAN
BEGIN:VEVENT
DTSTAMP:20260420T045402
DTSTART:20260628T140000
DTEND:20260628T170000
SUMMARY:Music With Ken Matthews At DuCard Vineyards
DESCRIPTION:Event Info: https://www.localwineevents.com/view/event/music-with-ken-matthews-at-ducard-vineyards/990351
LOCATION:DuCard Vineyards -- 40 Gibson Hollow Lane Etlan (Madison County), VA 22719
STATUS:CONFIRMED
SEQUENCE:0
TRANSP:OPAQUE
END:VEVENT
END:VCALENDAR
