BEGIN:VCALENDAR
VERSION:2.0
CALSCALE:GREGORIAN
BEGIN:VEVENT
DTSTAMP:20260420T062923
DTSTART:20260613T193000
DTEND:20260613T213000
SUMMARY:Gillson Beach Shrimp Boil Wilmette
DESCRIPTION:Event Info: https://www.localwineevents.com/view/event/gillson-beach-shrimp-boil-wilmette/990317
LOCATION:The Fat Shallot -- 800 Gillson Park Drive Wilmette, IL 60091
STATUS:CONFIRMED
SEQUENCE:0
TRANSP:OPAQUE
END:VEVENT
END:VCALENDAR
