BEGIN:VCALENDAR
VERSION:2.0
CALSCALE:GREGORIAN
BEGIN:VEVENT
DTSTAMP:20260420T061006
DTSTART:20260315T093000
DTEND:20260315T193000
SUMMARY:Lobster Lunch  Two Winery Day-Trip From San Diego To Baja!  All Inclusive!
DESCRIPTION:Event Info: https://www.localwineevents.com/view/event/lobster-lunch-two-winery-day-trip-from-san-diego-to-baja-all-inclusive/990196
LOCATION:Pedeast Tijuana Transit Station - USA Side by McDonalds -- 727 E San Ysidro Blvd SAN DIEGO, CA 92173
STATUS:CONFIRMED
SEQUENCE:0
TRANSP:OPAQUE
END:VEVENT
END:VCALENDAR
