BEGIN:VCALENDAR
VERSION:2.0
CALSCALE:GREGORIAN
BEGIN:VEVENT
DTSTAMP:20260420T115433
DTSTART:20260507T180000
DTEND:20260507T080000
SUMMARY:Mother\'s Day Cookie Decorating Class
DESCRIPTION:Event Info: https://www.localwineevents.com/view/event/mothers-day-cookie-decorating-class/990173
LOCATION:The Pasta Tree Restaurant  Wine Bar -- 1503 N Farwell Ave Milwaukee, WI 53202
STATUS:CONFIRMED
SEQUENCE:0
TRANSP:OPAQUE
END:VEVENT
END:VCALENDAR
