BEGIN:VCALENDAR
VERSION:2.0
CALSCALE:GREGORIAN
BEGIN:VEVENT
DTSTAMP:20260420T175544
DTSTART:20260508T110000
DTEND:20260510T160000
SUMMARY:Mom, Bubbles,  The Doodle: A Sparkling Mothers Day At Amista!
DESCRIPTION:Event Info: https://www.localwineevents.com/view/event/mom-bubbles-the-doodle-a-sparkling-mothers-day-at-amista/989633
LOCATION:Amista Vineyards -- 3320 DRY CREEK RD HEALDSBURG, CA 95448
STATUS:CONFIRMED
SEQUENCE:0
TRANSP:OPAQUE
END:VEVENT
END:VCALENDAR
