BEGIN:VCALENDAR
VERSION:2.0
CALSCALE:GREGORIAN
BEGIN:VEVENT
DTSTAMP:20260420T175610
DTSTART:20260426T110000
DTEND:20260426T160000
SUMMARY:Passport To Dry Creek: Bubbly Brunch At Amista
DESCRIPTION:Event Info: https://www.localwineevents.com/view/event/passport-to-dry-creek-bubbly-brunch-at-amista/989631
LOCATION:Amista Vineyards -- 3320 DRY CREEK RD HEALDSBURG, CA 95448
STATUS:CONFIRMED
SEQUENCE:0
TRANSP:OPAQUE
END:VEVENT
END:VCALENDAR
