BEGIN:VCALENDAR
VERSION:2.0
CALSCALE:GREGORIAN
BEGIN:VEVENT
DTSTAMP:20260420T175542
DTSTART:20260801T170000
DTEND:20260801T200000
SUMMARY:Amista\'s Dinner In The Vineyard
DESCRIPTION:Event Info: https://www.localwineevents.com/view/event/amistas-dinner-in-the-vineyard/989630
LOCATION:Amista Vineyards -- 3320 DRY CREEK RD HEALDSBURG, CA 95448
STATUS:CONFIRMED
SEQUENCE:0
TRANSP:OPAQUE
END:VEVENT
END:VCALENDAR
