BEGIN:VCALENDAR
VERSION:2.0
CALSCALE:GREGORIAN
BEGIN:VEVENT
DTSTAMP:20260424T062102
DTSTART:20260719T093000
DTEND:20260719T113000
SUMMARY:Yoga In The Vineyard
DESCRIPTION:Event Info: https://www.localwineevents.com/view/event/yoga-in-the-vineyard/989593
LOCATION:Tedeschi Family Winery -- 2779 Grant St Calistoga, CA 94515
STATUS:CONFIRMED
SEQUENCE:0
TRANSP:OPAQUE
END:VEVENT
END:VCALENDAR
