BEGIN:VCALENDAR
VERSION:2.0
CALSCALE:GREGORIAN
BEGIN:VEVENT
DTSTAMP:20260420T121805
DTSTART:20260502T120000
DTEND:20260502T133000
SUMMARY:Moms, Mimosas, Mixing  More
DESCRIPTION:Event Info: https://www.localwineevents.com/view/event/moms-mimosas-mixing-more/989408
LOCATION:Total Wine  More | 4923 28th Street SE nul -- 4923 28th Street SE null Grand Rapids, Michigan 49512
STATUS:CONFIRMED
SEQUENCE:0
TRANSP:OPAQUE
END:VEVENT
END:VCALENDAR
