BEGIN:VCALENDAR
VERSION:2.0
CALSCALE:GREGORIAN
BEGIN:VEVENT
DTSTAMP:20260420T213442
DTSTART:20260613T170000
DTEND:20260613T183000
SUMMARY:Under The Tuscan Sun
DESCRIPTION:Event Info: https://www.localwineevents.com/view/event/under-the-tuscan-sun/989348
LOCATION:Total Wine  More | 11441 Jefferson Blvd nul -- 11441 Jefferson Blvd null Culver City, California 90230
STATUS:CONFIRMED
SEQUENCE:0
TRANSP:OPAQUE
END:VEVENT
END:VCALENDAR
