BEGIN:VCALENDAR
VERSION:2.0
CALSCALE:GREGORIAN
BEGIN:VEVENT
DTSTAMP:20260421T094135
DTSTART:20260612T180000
DTEND:20260612T193000
SUMMARY:Under The Tuscan Sun
DESCRIPTION:Event Info: https://www.localwineevents.com/view/event/under-the-tuscan-sun/989199
LOCATION:Total Wine  More | 20615 Torrence Chapel Road, Unit 101 nul -- 20615 Torrence Chapel Road, Unit 101 null Cornelius, North Carolina 28031
STATUS:CONFIRMED
SEQUENCE:0
TRANSP:OPAQUE
END:VEVENT
END:VCALENDAR
