BEGIN:VCALENDAR
VERSION:2.0
CALSCALE:GREGORIAN
BEGIN:VEVENT
DTSTAMP:20260420T152412
DTSTART:20260612T183000
DTEND:20260612T200000
SUMMARY:Under The Tuscan Sun
DESCRIPTION:Event Info: https://www.localwineevents.com/view/event/under-the-tuscan-sun/989166
LOCATION:Total Wine  More | 465 US HWY 46 nul -- 465 US HWY 46 null Totowa, New Jersey 07512
STATUS:CONFIRMED
SEQUENCE:0
TRANSP:OPAQUE
END:VEVENT
END:VCALENDAR
