BEGIN:VCALENDAR
VERSION:2.0
CALSCALE:GREGORIAN
BEGIN:VEVENT
DTSTAMP:20260421T184419
DTSTART:20260617T183000
DTEND:20260617T200000
SUMMARY:Gems Of Scotland With Ian Macleod Distillers
DESCRIPTION:Event Info: https://www.localwineevents.com/view/event/gems-of-scotland-with-ian-macleod-distillers/989118
LOCATION:Total Wine  More | MacArthur Crossing -- 7730 N. MacArthur Blvd. SuiteA Irving, Texas 75063
STATUS:CONFIRMED
SEQUENCE:0
TRANSP:OPAQUE
END:VEVENT
END:VCALENDAR
