BEGIN:VCALENDAR
VERSION:2.0
CALSCALE:GREGORIAN
BEGIN:VEVENT
DTSTAMP:20260421T184328
DTSTART:20260618T183000
DTEND:20260618T200000
SUMMARY:Gems Of Scotland With Ian Macleod Distillers
DESCRIPTION:Event Info: https://www.localwineevents.com/view/event/gems-of-scotland-with-ian-macleod-distillers/989109
LOCATION:Total Wine  More | The Highlands Shopping Center -- 981 Interstate 20 W. Arlington, Texas 76017
STATUS:CONFIRMED
SEQUENCE:0
TRANSP:OPAQUE
END:VEVENT
END:VCALENDAR
