BEGIN:VCALENDAR
VERSION:2.0
CALSCALE:GREGORIAN
BEGIN:VEVENT
DTSTAMP:20260420T214613
DTSTART:20261114T100000
DTEND:20261114T130000
SUMMARY:Vineyard  Ranch Hike With Wine Tasting
DESCRIPTION:Event Info: https://www.localwineevents.com/view/event/vineyard-ranch-hike-with-wine-tasting/988943
LOCATION:Folded Hills Winery -- 2323 Old Coast Hwy Gaviota, CA 93117
STATUS:CONFIRMED
SEQUENCE:0
TRANSP:OPAQUE
END:VEVENT
END:VCALENDAR
