BEGIN:VCALENDAR
VERSION:2.0
CALSCALE:GREGORIAN
BEGIN:VEVENT
DTSTAMP:20260420T175926
DTSTART:20260531T110000
DTEND:20260912T143000
SUMMARY:Hike A Volcano
DESCRIPTION:Event Info: https://www.localwineevents.com/view/event/hike-a-volcano/988881
LOCATION:Obsidian Wine Co. - Obsidian Ridge Vineyard -- 8993 Hwy 175 Kelseyville, CA 95451
STATUS:CONFIRMED
SEQUENCE:0
TRANSP:OPAQUE
END:VEVENT
END:VCALENDAR
