BEGIN:VCALENDAR
VERSION:2.0
CALSCALE:GREGORIAN
BEGIN:VEVENT
DTSTAMP:20260421T013311
DTSTART:20260425T120000
DTEND:20260425T160000
SUMMARY:Spring Art Festival
DESCRIPTION:Event Info: https://www.localwineevents.com/view/event/spring-art-festival/988861
LOCATION:Sculpterra Winery  Sculpture Garden -- 5015 Linne Road Paso Robles, CA 93453
STATUS:CONFIRMED
SEQUENCE:0
TRANSP:OPAQUE
END:VEVENT
END:VCALENDAR
