BEGIN:VCALENDAR
VERSION:2.0
CALSCALE:GREGORIAN
BEGIN:VEVENT
DTSTAMP:20260421T051036
DTSTART:20260525T140000
DTEND:20260525T170000
SUMMARY:Music With Gina Sobel Plus Grill And Chill At DuCard Vineyards
DESCRIPTION:Event Info: https://www.localwineevents.com/view/event/music-with-gina-sobel-plus-grill-and-chill-at-ducard-vineyards/988839
LOCATION:DuCard Vineyards -- 40 Gibson Hollow Lane Etlan (Madison County), VA 22719
STATUS:CONFIRMED
SEQUENCE:0
TRANSP:OPAQUE
END:VEVENT
END:VCALENDAR
