BEGIN:VCALENDAR
VERSION:2.0
CALSCALE:GREGORIAN
BEGIN:VEVENT
DTSTAMP:20260421T013131
DTSTART:20260425T130000
DTEND:20260425T160000
SUMMARY:Wines  Fine Cheeses  Gazebo Experience
DESCRIPTION:Event Info: https://www.localwineevents.com/view/event/wines-fine-cheeses-gazebo-experience/988835
LOCATION:SummerWood Winery and Inn -- 2175 Arbor Road Paso Robles, CA 93446
STATUS:CONFIRMED
SEQUENCE:0
TRANSP:OPAQUE
END:VEVENT
END:VCALENDAR
