BEGIN:VCALENDAR
VERSION:2.0
CALSCALE:GREGORIAN
BEGIN:VEVENT
DTSTAMP:20260421T013225
DTSTART:20260517T120000
DTEND:20260517T140000
SUMMARY:The Cult Of Terroir: An Afternoon With Sadie Family Wines
DESCRIPTION:Event Info: https://www.localwineevents.com/view/event/the-cult-of-terroir-an-afternoon-with-sadie-family-wines/988824
LOCATION:Six Test Kitchen -- 3075 Blue Rock Road Unit B Paso Robles, CA 93446
STATUS:CONFIRMED
SEQUENCE:0
TRANSP:OPAQUE
END:VEVENT
END:VCALENDAR
