BEGIN:VCALENDAR
VERSION:2.0
CALSCALE:GREGORIAN
BEGIN:VEVENT
DTSTAMP:20260421T050932
DTSTART:20260502T130000
DTEND:20260502T170000
SUMMARY:Garagiste Wine Festival: 8th Annual Northern Exposure
DESCRIPTION:Event Info: https://www.localwineevents.com/view/event/garagiste-wine-festival-8th-annual-northern-exposure/988796
LOCATION:Sonoma Veterans\' Memorial Hall -- 126 1st Street W Sonoma, California 95476
STATUS:CONFIRMED
SEQUENCE:0
TRANSP:OPAQUE
END:VEVENT
END:VCALENDAR
