BEGIN:VCALENDAR
VERSION:2.0
CALSCALE:GREGORIAN
BEGIN:VEVENT
DTSTAMP:20260420T075805
DTSTART:20261204T180000
DTEND:20261204T200000
SUMMARY:Bourbon Tasting At Falmouth Country Club
DESCRIPTION:Event Info: https://www.localwineevents.com/view/event/bourbon-tasting-at-falmouth-country-club/988763
LOCATION:Falmouth Country Club -- One Congressional Drive Falmouth, Maine 04105
STATUS:CONFIRMED
SEQUENCE:0
TRANSP:OPAQUE
END:VEVENT
END:VCALENDAR
