BEGIN:VCALENDAR
VERSION:2.0
CALSCALE:GREGORIAN
BEGIN:VEVENT
DTSTAMP:20260420T080539
DTSTART:20261023T180000
DTEND:20261023T200000
SUMMARY:Whiskey  Burgers Dinner At Falmouth Country Club
DESCRIPTION:Event Info: https://www.localwineevents.com/view/event/whiskey-burgers-dinner-at-falmouth-country-club/988762
LOCATION:Falmouth Country Club -- One Congressional Drive Falmouth, Maine 04105
STATUS:CONFIRMED
SEQUENCE:0
TRANSP:OPAQUE
END:VEVENT
END:VCALENDAR
