BEGIN:VCALENDAR
VERSION:2.0
CALSCALE:GREGORIAN
BEGIN:VEVENT
DTSTAMP:20260420T075740
DTSTART:20260917T180000
DTEND:20260917T200000
SUMMARY:Spanish Wines  Tapas Dinner At Falmouth Country Club
DESCRIPTION:Event Info: https://www.localwineevents.com/view/event/spanish-wines-tapas-dinner-at-falmouth-country-club/988761
LOCATION:Falmouth Country Club -- One Congressional Drive Falmouth, Maine 04105
STATUS:CONFIRMED
SEQUENCE:0
TRANSP:OPAQUE
END:VEVENT
END:VCALENDAR
