BEGIN:VCALENDAR
VERSION:2.0
CALSCALE:GREGORIAN
BEGIN:VEVENT
DTSTAMP:20260420T080539
DTSTART:20260715T180000
DTEND:20260715T200000
SUMMARY:Outdoor Seated Wine  Oyster Tasting At Falmouth Country Club
DESCRIPTION:Event Info: https://www.localwineevents.com/view/event/outdoor-seated-wine-oyster-tasting-at-falmouth-country-club/988759
LOCATION:Falmouth Country Club -- One Congressional Drive Falmouth, Maine 04105
STATUS:CONFIRMED
SEQUENCE:0
TRANSP:OPAQUE
END:VEVENT
END:VCALENDAR
