BEGIN:VCALENDAR
VERSION:2.0
CALSCALE:GREGORIAN
BEGIN:VEVENT
DTSTAMP:20260420T075708
DTSTART:20260522T180000
DTEND:20260522T200000
SUMMARY:Spring Wine Dinner At Falmouth Country Club
DESCRIPTION:Event Info: https://www.localwineevents.com/view/event/spring-wine-dinner-at-falmouth-country-club/988757
LOCATION:Falmouth Country Club -- One Congressional Drive Falmouth, Maine 04105
STATUS:CONFIRMED
SEQUENCE:0
TRANSP:OPAQUE
END:VEVENT
END:VCALENDAR
