BEGIN:VCALENDAR
VERSION:2.0
CALSCALE:GREGORIAN
BEGIN:VEVENT
DTSTAMP:20260420T075642
DTSTART:20261018T120000
DTEND:20261018T140000
SUMMARY:Fall Foliage Wine Sail In Portland, Maine: Cabernet Sauvignon
DESCRIPTION:Event Info: https://www.localwineevents.com/view/event/fall-foliage-wine-sail-in-portland-maine-cabernet-sauvignon/988568
LOCATION:Maine State Pier -- Maine State Pier, located at 56 Commercial Street (where Commercial Street meets Franklin Street). Portland, Maine 04101
STATUS:CONFIRMED
SEQUENCE:0
TRANSP:OPAQUE
END:VEVENT
END:VCALENDAR
