BEGIN:VCALENDAR
VERSION:2.0
CALSCALE:GREGORIAN
BEGIN:VEVENT
DTSTAMP:20260420T045448
DTSTART:20260828T180000
DTEND:20260828T200000
SUMMARY:Wine Sail In Portland, Maine: Pinot Noir
DESCRIPTION:Event Info: https://www.localwineevents.com/view/event/wine-sail-in-portland-maine-pinot-noir/988310
LOCATION:Maine State Pier -- Maine State Pier, located at 56 Commercial Street (where Commercial Street meets Franklin Street). Portland, Maine 04101
STATUS:CONFIRMED
SEQUENCE:0
TRANSP:OPAQUE
END:VEVENT
END:VCALENDAR
