BEGIN:VCALENDAR
VERSION:2.0
CALSCALE:GREGORIAN
BEGIN:VEVENT
DTSTAMP:20260421T051119
DTSTART:20260306T150000
DTEND:20260306T160000
SUMMARY:Hands-On: Ravioli Cacio E Pepe
DESCRIPTION:Event Info: https://www.localwineevents.com/view/event/hands-on-ravioli-cacio-e-pepe/988206
LOCATION:Eataly Boston -- 800 Boylston Street Boston, MA 02199
STATUS:CONFIRMED
SEQUENCE:0
TRANSP:OPAQUE
END:VEVENT
END:VCALENDAR
