BEGIN:VCALENDAR
VERSION:2.0
CALSCALE:GREGORIAN
BEGIN:VEVENT
DTSTAMP:20260420T045449
DTSTART:20260710T120000
DTEND:20260710T140000
SUMMARY:Wine Sail In Portland, Maine: Wine + Oysters
DESCRIPTION:Event Info: https://www.localwineevents.com/view/event/wine-sail-in-portland-maine-wine-oysters/988113
LOCATION:Maine State Pier -- Maine State Pier, located at 56 Commercial Street (where Commercial Street meets Franklin Street). Portland, Maine 04101
STATUS:CONFIRMED
SEQUENCE:0
TRANSP:OPAQUE
END:VEVENT
END:VCALENDAR
