BEGIN:VCALENDAR
VERSION:2.0
CALSCALE:GREGORIAN
BEGIN:VEVENT
DTSTAMP:20260420T045210
DTSTART:20260315T140000
DTEND:20260315T170000
SUMMARY:The NONNAS Dinner
DESCRIPTION:Event Info: https://www.localwineevents.com/view/event/the-nonnas-dinner/988073
LOCATION:Tonno Wakefield -- 175 North Avenue Wakefield, MA 01880
STATUS:CONFIRMED
SEQUENCE:0
TRANSP:OPAQUE
END:VEVENT
END:VCALENDAR
