BEGIN:VCALENDAR
VERSION:2.0
CALSCALE:GREGORIAN
BEGIN:VEVENT
DTSTAMP:20260420T045209
DTSTART:20260305T180000
DTEND:20260305T200000
SUMMARY:Winter In The Glass: Cold Nights, Bold Wines At Broken Creek Vineyard
DESCRIPTION:Event Info: https://www.localwineevents.com/view/event/winter-in-the-glass-cold-nights-bold-wines-at-broken-creek-vineyard/987930
LOCATION:Broken Creek Vineyard and Winery -- 614 South Street Shrewsbury, MA 01545
STATUS:CONFIRMED
SEQUENCE:0
TRANSP:OPAQUE
END:VEVENT
END:VCALENDAR
